BEGIN:VCALENDAR
VERSION:2.0
PRODID:-//Human Trafficking Academy - ECPv6.6.4.2//NONSGML v1.0//EN
CALSCALE:GREGORIAN
METHOD:PUBLISH
X-WR-CALNAME:Human Trafficking Academy
X-ORIGINAL-URL:https://humantraffickingacademy.org
X-WR-CALDESC:Events for Human Trafficking Academy
REFRESH-INTERVAL;VALUE=DURATION:PT1H
X-Robots-Tag:noindex
X-PUBLISHED-TTL:PT1H
BEGIN:VTIMEZONE
TZID:UTC
BEGIN:STANDARD
TZOFFSETFROM:+0000
TZOFFSETTO:+0000
TZNAME:UTC
DTSTART:20260101T000000
END:STANDARD
END:VTIMEZONE
BEGIN:VEVENT
DTSTART;TZID=UTC:20260928T090000
DTEND;TZID=UTC:20260928T170000
DTSTAMP:20260420T004248
CREATED:20260410T195120Z
LAST-MODIFIED:20260413T131420Z
UID:14274-1790586000-1790614800@humantraffickingacademy.org
SUMMARY:112th World Day of Migrants and Refugees
DESCRIPTION:“We must seek ways of treating people with humanity\, with the dignity that is theirs.”\n                                                                                                                                                                          – Pope Leo XIV \nThe John J. Brunetti Human Trafficking Academy joins the Holy See in celebrating the World Day of Migrants and Refugees (WDMR)\, a staple event for the Catholic Church since 1914. It is always an occasion to express concern for vulnerable people on the move\, including victims of human trafficking; to call all people of good will to action; to pray for people on the move as they face many challenges; to increase awareness about the opportunities that migration offers; to encourage communities world-wide to welcome\, protect\, and integrate migrants and refugees and to promote their cause as a responsibility for common good and human dignity.\nStay Tuned: Full Program Coming Soon
URL:https://humantraffickingacademy.org/event/112th-world-day-of-migrants-and-refugees/
LOCATION:St. Thomas University College of Law\, 16401 NW 37th Avenue\, Miami Gardens\, FL\, 33054\, United States
ATTACH;FMTTYPE=image/png:https://humantraffickingacademy.org/wp-content/uploads/2026/04/WDMR-2026-BANNER.png
ORGANIZER;CN="The John J. Brunetti Human Trafficking Academy":MAILTO:humantrafficking@stu.edu
END:VEVENT
END:VCALENDAR